BEGIN:VCALENDAR
VERSION:2.0
PRODID:-//Vishwa Global Blog - ECPv4.6.9//NONSGML v1.0//EN
CALSCALE:GREGORIAN
METHOD:PUBLISH
X-WR-CALNAME:Vishwa Global Blog
X-ORIGINAL-URL:https://blog.vishwaglobal.com
X-WR-CALDESC:Events for Vishwa Global Blog
BEGIN:VEVENT
DTSTART;TZID=UTC+0:20170520T080000
DTEND;TZID=UTC+0:20170520T170000
DTSTAMP:20260421T102341
CREATED:20150210T120053Z
LAST-MODIFIED:20160623T060401Z
UID:256-1495267200-1495299600@blog.vishwaglobal.com
SUMMARY:Feel the Spirit and Divinity in Nature
DESCRIPTION:Sed sollicitudin odio vitae blandit aliquet. Praesent vitae urna ornare\, sodales lacus lobortis\, dictum risus. Donec ut tellus euismod\, venenatis elit quis\, volutpat nisl. Fusce ultricies lorem eget tellus finibus euismod. Phasellus eu erat interdum\, finibus ligula vitae\, lobortis metus. Duis blandit facilisis laoreet. Cras auctor ex tellus\, sed ornare leo luctus imperdiet. Phasellus scelerisque rhoncus massa\, a fringilla augue mattis at. Cras in scelerisque diam\, nec ornare nisl. In at elit feugiat\, viverra tellus nec\, pharetra massa. Cras vehicula rhoncus lorem sagittis porta. Suspendisse in enim condimentum\, porta neque quis\, facilisis nisl. Morbi sit amet quam ornare\, ornare nisl sed\, placerat mi. Ut ut arcu eu elit dapibus ultrices. Suspendisse non dapibus nibh\, nec blandit metus. \nDuis mollis\, leo semper tristique efficitur\, metus dui scelerisque metus\, quis tempus lectus odio quis lorem. Sed pulvinar vehicula nisi. Vestibulum neque dui\, pulvinar at fermentum vitae\, interdum sit amet leo. In hac habitasse platea dictumst. Morbi quis sodales odio. Duis feugiat libero gravida molestie fringilla. \n
URL:https://blog.vishwaglobal.com/event/feel-the-spirit-and-divinity-in-nature/
LOCATION:Brookbond Road\, Coimbatore\, 65472\, India
CATEGORIES:Discussion,Education,Life Style
ATTACH;FMTTYPE=image/jpeg:https://blog.vishwaglobal.com/wp-content/uploads/2015/02/event4.jpg
ORGANIZER;CN="William%20Dafoe":MAILTO:http://iamdesigning.com
END:VEVENT
END:VCALENDAR